BEGIN:VCALENDAR
VERSION:2.0
PRODID:-//ExpressionEngine Easy iCalendar plugin//NONSGML v2.0.1//EN
X-WR-TIMEZONE:America/New_York
X-WR-CALNAME:Upcoming Auctions
BEGIN:VEVENT
UID:161112
DTSTAMP:20260424T200000
DTSTART:20260424T200000
DTEND:20260505T200000
SUMMARY:Absolute Online Auction #2193
LOCATION:1499 State Route 522\, Wheelersburg\, OH 45694\, US
DESCRIPTION:Very Nice Private Gun Collection 
URL:https://www.gleimauctions.com/auctions/detail/bw161112
SEQUENCE:1
END:VEVENT
END:VCALENDAR