BEGIN:VCALENDAR
VERSION:2.0
PRODID:-//ExpressionEngine Easy iCalendar plugin//NONSGML v2.0.1//EN
X-WR-TIMEZONE:America/New_York
X-WR-CALNAME:Upcoming Auctions
BEGIN:VEVENT
UID:161056
DTSTAMP:20260423T200000
DTSTART:20260423T200000
DTEND:20260428T203000
SUMMARY:Absolute Online Auction #2191
LOCATION:Address to be giving to winners \, Ironton\, OH 45638\, US
DESCRIPTION:3 Cleanout Buildings Located in Ironton\, Ohio 
URL:https://www.gleimauctions.com/auctions/detail/bw161056
SEQUENCE:1
END:VEVENT
END:VCALENDAR