BEGIN:VCALENDAR
VERSION:2.0
PRODID:-//ExpressionEngine Easy iCalendar plugin//NONSGML v2.0.1//EN
X-WR-TIMEZONE:America/New_York
X-WR-CALNAME:Upcoming Auctions
BEGIN:VEVENT
UID:158016
DTSTAMP:20260304T200000
DTSTART:20260304T200000
DTEND:20260310T200000
SUMMARY:Absolute Online Auction #2176
LOCATION:1499 State Route 522\, Wheelersburg\, OH 45694\, US
DESCRIPTION:Collectibles\, Pickup Truck\, Tools\, Furniture\, Household\, and
  much more 
URL:https://www.gleimauctions.com/auctions/detail/bw158016
SEQUENCE:1
END:VEVENT
END:VCALENDAR