BEGIN:VCALENDAR
VERSION:2.0
PRODID:-//ExpressionEngine Easy iCalendar plugin//NONSGML v2.0.1//EN
X-WR-TIMEZONE:America/New_York
X-WR-CALNAME:Upcoming Auctions
BEGIN:VEVENT
UID:148746
DTSTAMP:20250927T120000
DTSTART:20250927T120000
DTEND:20250927T130000
SUMMARY:Real Estate Public Auction
LOCATION:73 Willow Lane \, South Shore \, KY 41175\, US
DESCRIPTION:3 Bedroom\, 1 1/2 Bath Home Situated on 18.6 Acres with 5 Bay
  Garage 
URL:https://www.gleimauctions.com/auctions/detail/bw148746
SEQUENCE:1
END:VEVENT
END:VCALENDAR