BEGIN:VCALENDAR
VERSION:2.0
PRODID:-//ExpressionEngine Easy iCalendar plugin//NONSGML v2.0.1//EN
X-WR-TIMEZONE:America/New_York
X-WR-CALNAME:Upcoming Auctions
BEGIN:VEVENT
UID:147852
DTSTAMP:20250925T180000
DTSTART:20250925T180000
DTEND:20250925T190000
SUMMARY:Live Onsite Real Estate Auction with Online Bidding
LOCATION:2885 Circle Drive \, Portsmouth\, OH 45662\, US
DESCRIPTION:3 Bedroom\, 2 Bath 1 1/2 Story Home   
URL:https://www.gleimauctions.com/auctions/detail/bw147852
SEQUENCE:1
END:VEVENT
END:VCALENDAR