BEGIN:VCALENDAR
VERSION:2.0
PRODID:-//ExpressionEngine Easy iCalendar plugin//NONSGML v2.0.1//EN
X-WR-TIMEZONE:America/New_York
X-WR-CALNAME:Upcoming Auctions
BEGIN:VEVENT
UID:147769
DTSTAMP:20250927T100000
DTSTART:20250927T100000
DTEND:20250927T110000
SUMMARY:Absolute Public Auction
LOCATION:73 Willow Lane \, South Shore \, KY 41175\, US
DESCRIPTION:Honda 4-Wheeler\, Guns Golf Cart\, Trailer\, Collectibles\, Fur
 niture\, Tools\, Household and much more
URL:https://www.gleimauctions.com/auctions/detail/bw147769
SEQUENCE:1
END:VEVENT
END:VCALENDAR