BEGIN:VCALENDAR
VERSION:2.0
PRODID:-//ExpressionEngine Easy iCalendar plugin//NONSGML v2.0.1//EN
X-WR-TIMEZONE:America/New_York
X-WR-CALNAME:Upcoming Auctions
BEGIN:VEVENT
UID:147677
DTSTAMP:20250903T200000
DTSTART:20250903T200000
DTEND:20250909T200000
SUMMARY:Absolute Online Auction #2123
LOCATION:1499 State Route 522\, Wheelersburg\, OH 45694 \, US
DESCRIPTION:Collectibles\, Guns\, Ammo\, Vintage Toys\, Tools\, Furniture\, Co
 ins\, Household and much more 
URL:https://www.gleimauctions.com/auctions/detail/bw147677
SEQUENCE:1
END:VEVENT
END:VCALENDAR