BEGIN:VCALENDAR
VERSION:2.0
PRODID:-//ExpressionEngine Easy iCalendar plugin//NONSGML v2.0.1//EN
X-WR-TIMEZONE:America/New_York
X-WR-CALNAME:Upcoming Auctions
BEGIN:VEVENT
UID:147306
DTSTAMP:20250827T200000
DTSTART:20250827T200000
DTEND:20250902T200000
SUMMARY:Absolute Online Auction #2121
LOCATION:1499 State Route 522\, Wheelersburg\, OH 45694 \, US
DESCRIPTION:Collectibles\, Ammo\, Furniture\, Coins\, Household and much mor
 e 
URL:https://www.gleimauctions.com/auctions/detail/bw147306
SEQUENCE:1
END:VEVENT
END:VCALENDAR