BEGIN:VCALENDAR
VERSION:2.0
PRODID:-//ExpressionEngine Easy iCalendar plugin//NONSGML v2.0.1//EN
X-WR-TIMEZONE:America/New_York
X-WR-CALNAME:Upcoming Auctions
BEGIN:VEVENT
UID:147106
DTSTAMP:20250826T200000
DTSTART:20250826T200000
DTEND:20250831T200000
SUMMARY:Absolute Online Auction #2120
LOCATION:1499 State Route 522\, Wheelersburg\, OH 45694 \, US
DESCRIPTION:Collectibles\, Box Trailer\, Pistol\, Tools\, Household\, Hardwar
 e\, Coins and much more 
URL:https://www.gleimauctions.com/auctions/detail/bw147106
SEQUENCE:1
END:VEVENT
END:VCALENDAR