BEGIN:VCALENDAR
VERSION:2.0
PRODID:-//ExpressionEngine Easy iCalendar plugin//NONSGML v2.0.1//EN
X-WR-TIMEZONE:America/New_York
X-WR-CALNAME:Upcoming Auctions
BEGIN:VEVENT
UID:146849
DTSTAMP:20250820T200000
DTSTART:20250820T200000
DTEND:20250826T200000
SUMMARY:Absolute Online Auction #2119
LOCATION:1499 State Route 522\, Wheelersburg\, OH 45694 \, US
DESCRIPTION:Collectibles\, Furniture\, Ammo\, Tools\, 3-Wheeler\, Household\, 
 Sports Cards\, Coins and much more 
URL:https://www.gleimauctions.com/auctions/detail/bw146849
SEQUENCE:1
END:VEVENT
END:VCALENDAR