BEGIN:VCALENDAR
VERSION:2.0
PRODID:-//ExpressionEngine Easy iCalendar plugin//NONSGML v2.0.1//EN
X-WR-TIMEZONE:America/New_York
X-WR-CALNAME:Upcoming Auctions
BEGIN:VEVENT
UID:145792
DTSTAMP:20250804T200000
DTSTART:20250804T200000
DTEND:20250810T200000
SUMMARY:Absolute Online Auction #2114
LOCATION:1499 State Route 522\, Wheelersburg\, OH 45694 \, US
DESCRIPTION:Collectibles\, Tools\, Sports Cards\, Furniture\, Household\, Coi
 ns and much more 
URL:https://www.gleimauctions.com/auctions/detail/bw145792
SEQUENCE:1
END:VEVENT
END:VCALENDAR