BEGIN:VCALENDAR
VERSION:2.0
PRODID:-//ExpressionEngine Easy iCalendar plugin//NONSGML v2.0.1//EN
X-WR-TIMEZONE:America/New_York
X-WR-CALNAME:Upcoming Auctions
BEGIN:VEVENT
UID:145518
DTSTAMP:20250731T200000
DTSTART:20250731T200000
DTEND:20250805T200000
SUMMARY:Absolute Online Auction #2113
LOCATION:1499 State Route 522\, Wheelersburg\, OH 45694 \, US
DESCRIPTION:Collectibles\, Case 235 Compact Tractor\, Guns\, Vintage Toys\, 
 5ft Finish Mower\, Riding Mowers\, Furniture\, Household and mu
 ch more  
URL:https://www.gleimauctions.com/auctions/detail/bw145518
SEQUENCE:1
END:VEVENT
END:VCALENDAR