BEGIN:VCALENDAR
VERSION:2.0
PRODID:-//ExpressionEngine Easy iCalendar plugin//NONSGML v2.0.1//EN
X-WR-TIMEZONE:America/New_York
X-WR-CALNAME:Upcoming Auctions
BEGIN:VEVENT
UID:145340
DTSTAMP:20250728T200000
DTSTART:20250728T200000
DTEND:20250803T200000
SUMMARY:Absolute Online Auction #2112
LOCATION:1499 State Route 522\, Wheelersburg\, OH 45694 \, US
DESCRIPTION:1986 Chrysler Fifth Avenue Automobile\, Collectibles\, Musical
  Instruments\, Tools\, Furniture\, Household\, Coins\, Sports Car
 ds and much more. 
URL:https://www.gleimauctions.com/auctions/detail/bw145340
SEQUENCE:1
END:VEVENT
END:VCALENDAR