BEGIN:VCALENDAR
VERSION:2.0
PRODID:-//ExpressionEngine Easy iCalendar plugin//NONSGML v2.0.1//EN
X-WR-TIMEZONE:America/New_York
X-WR-CALNAME:Upcoming Auctions
BEGIN:VEVENT
UID:144673
DTSTAMP:20250716T200000
DTSTART:20250716T200000
DTEND:20250722T200000
SUMMARY:Absolute Online Auction #2109
LOCATION:1499 State Route 522\, Wheelersburg\, OH 45694 \, US
DESCRIPTION:2012 Cadillac\, Guns\, Collectibles\, Tools\, Household\, Coins\, 
 Riding Mower and much more 
URL:https://www.gleimauctions.com/auctions/detail/bw144673
SEQUENCE:1
END:VEVENT
END:VCALENDAR