BEGIN:VCALENDAR
VERSION:2.0
PRODID:-//ExpressionEngine Easy iCalendar plugin//NONSGML v2.0.1//EN
X-WR-TIMEZONE:America/New_York
X-WR-CALNAME:Upcoming Auctions
BEGIN:VEVENT
UID:144483
DTSTAMP:20250715T200000
DTSTART:20250715T200000
DTEND:20250720T200000
SUMMARY:Absolute Online Auction #2108
LOCATION:1499 State Route 522\, Wheelersburg\, OH 45694 \, US
DESCRIPTION:Collectibles\, Vintage Sports Cards\, Tools\, Household\, Coins\,
  Furniture and much more 
URL:https://www.gleimauctions.com/auctions/detail/bw144483
SEQUENCE:1
END:VEVENT
END:VCALENDAR