BEGIN:VCALENDAR
VERSION:2.0
PRODID:-//ExpressionEngine Easy iCalendar plugin//NONSGML v2.0.1//EN
X-WR-TIMEZONE:America/New_York
X-WR-CALNAME:Upcoming Auctions
BEGIN:VEVENT
UID:143403
DTSTAMP:20250702T200000
DTSTART:20250702T200000
DTEND:20250708T200000
SUMMARY:Absolute Online Auction #2105
LOCATION:1499 State Route 522\, Wheelersburg\, OH 45694 \, US
DESCRIPTION:Collectibles\, Guns\, Household\, Tools\, Coins\, Ammo and much m
 ore 
URL:https://www.gleimauctions.com/auctions/detail/bw143403
SEQUENCE:1
END:VEVENT
END:VCALENDAR