BEGIN:VCALENDAR
VERSION:2.0
PRODID:-//ExpressionEngine Easy iCalendar plugin//NONSGML v2.0.1//EN
X-WR-TIMEZONE:America/New_York
X-WR-CALNAME:Upcoming Auctions
BEGIN:VEVENT
UID:142263
DTSTAMP:20250611T200000
DTSTART:20250611T200000
DTEND:20250617T200000
SUMMARY:Absolute Online Auction #2099
LOCATION:1499 State Route 522\, Wheelersburg\, OH 45694 \, US
DESCRIPTION:Collectibles\, Furniture\, Tools\, Household\, Sports\, Comics a
 nd more  
URL:https://www.gleimauctions.com/auctions/detail/bw142263
SEQUENCE:1
END:VEVENT
END:VCALENDAR