BEGIN:VCALENDAR
VERSION:2.0
PRODID:-//ExpressionEngine Easy iCalendar plugin//NONSGML v2.0.1//EN
X-WR-TIMEZONE:America/New_York
X-WR-CALNAME:Upcoming Auctions
BEGIN:VEVENT
UID:141871
DTSTAMP:20250604T200000
DTSTART:20250604T200000
DTEND:20250610T200000
SUMMARY:Absolute Online Auction #2096
LOCATION:1499 State Route 522\, Wheelersburg\, OH 45694 \, US
DESCRIPTION:Collectibles\, Guns\, Tools\, Riding Mower\, Household\, Furnitur
 e\, Coins\, Vintage Comics and much more. 
URL:https://www.gleimauctions.com/auctions/detail/bw141871
SEQUENCE:1
END:VEVENT
END:VCALENDAR