BEGIN:VCALENDAR
VERSION:2.0
PRODID:-//ExpressionEngine Easy iCalendar plugin//NONSGML v2.0.1//EN
X-WR-TIMEZONE:America/New_York
X-WR-CALNAME:Upcoming Auctions
BEGIN:VEVENT
UID:141730
DTSTAMP:20250603T200000
DTSTART:20250603T200000
DTEND:20250608T200000
SUMMARY:Absolute Online Auction #2095
LOCATION:1499 State Route 522\, Wheelersburg\, OH 45694 \, US
DESCRIPTION:Collectibles\, Household\, Tools\, Furniture\, Coins\, Guns and m
 uch more
URL:https://www.gleimauctions.com/auctions/detail/bw141730
SEQUENCE:1
END:VEVENT
END:VCALENDAR