BEGIN:VCALENDAR
VERSION:2.0
PRODID:-//ExpressionEngine Easy iCalendar plugin//NONSGML v2.0.1//EN
X-WR-TIMEZONE:America/New_York
X-WR-CALNAME:Upcoming Auctions
BEGIN:VEVENT
UID:141502
DTSTAMP:20250528T200000
DTSTART:20250528T200000
DTEND:20250603T200000
SUMMARY:Absolute Online Auction #2094
LOCATION:1499 State Route 522\, Wheelersburg\, OH 45694 \, US
DESCRIPTION:Collectibles\, 4x8 Utility Tilt Trailer\, Glassware\, Furniture
 \, Tools\, Household\, Coins and much more
URL:https://www.gleimauctions.com/auctions/detail/bw141502
SEQUENCE:1
END:VEVENT
END:VCALENDAR