BEGIN:VCALENDAR
VERSION:2.0
PRODID:-//ExpressionEngine Easy iCalendar plugin//NONSGML v2.0.1//EN
X-WR-TIMEZONE:America/New_York
X-WR-CALNAME:Upcoming Auctions
BEGIN:VEVENT
UID:140704
DTSTAMP:20250607T100000
DTSTART:20250607T100000
DTEND:20250607T110000
SUMMARY:Absolute Public Auction
LOCATION:466 County Road 1A \, Ironton\, OH 45638\, US
DESCRIPTION:Pickup Truck\, Tractor\, Zero Turn Lawn Mower\, Collectibles\, F
 urniture\, Tools\, Household and much more
URL:https://www.gleimauctions.com/auctions/detail/bw140704
SEQUENCE:1
END:VEVENT
END:VCALENDAR