BEGIN:VCALENDAR
VERSION:2.0
PRODID:-//ExpressionEngine Easy iCalendar plugin//NONSGML v2.0.1//EN
X-WR-TIMEZONE:America/New_York
X-WR-CALNAME:Upcoming Auctions
BEGIN:VEVENT
UID:140695
DTSTAMP:20250514T200000
DTSTART:20250514T200000
DTEND:20250520T200000
SUMMARY:Absolute Online Auction #2090
LOCATION:1499 State Route 522\, Wheelersburg\, OH 45694 \, US
DESCRIPTION:1999 Pontiac Firebird\, Collectibles\, Snap On/Mac Tools\, John
  Deere 318 Riding Mower\, Furniture\, Sports Cards\, Tools\, Hou
 sehold and much more.
URL:https://www.gleimauctions.com/auctions/detail/bw140695
SEQUENCE:1
END:VEVENT
END:VCALENDAR