BEGIN:VCALENDAR
VERSION:2.0
PRODID:-//ExpressionEngine Easy iCalendar plugin//NONSGML v2.0.1//EN
X-WR-TIMEZONE:America/New_York
X-WR-CALNAME:Upcoming Auctions
BEGIN:VEVENT
UID:140627
DTSTAMP:20250513T200000
DTSTART:20250513T200000
DTEND:20250519T200000
SUMMARY:Absolute Online Delinquent Storage Unit #2089
LOCATION:3 Lucasville Minford Rd \, Lucasville\, OH 45648\, US
DESCRIPTION:Delinquent Storage Unit 
URL:https://www.gleimauctions.com/auctions/detail/bw140627
SEQUENCE:1
END:VEVENT
END:VCALENDAR