BEGIN:VCALENDAR
VERSION:2.0
PRODID:-//ExpressionEngine Easy iCalendar plugin//NONSGML v2.0.1//EN
X-WR-TIMEZONE:America/New_York
X-WR-CALNAME:Upcoming Auctions
BEGIN:VEVENT
UID:140546
DTSTAMP:20250512T200000
DTSTART:20250512T200000
DTEND:20250518T200000
SUMMARY:Absolute Online Auction #2088
LOCATION:1499 State Route 522\, Wheelersburg\, OH 45694 \, US
DESCRIPTION:Collectibles\, Furniture\, Tools\, Vintage Toys\, Household\, Lon
 gaberger Baskets\, Coins and much more 
URL:https://www.gleimauctions.com/auctions/detail/bw140546
SEQUENCE:1
END:VEVENT
END:VCALENDAR