BEGIN:VCALENDAR
VERSION:2.0
PRODID:-//ExpressionEngine Easy iCalendar plugin//NONSGML v2.0.1//EN
X-WR-TIMEZONE:America/New_York
X-WR-CALNAME:Upcoming Auctions
BEGIN:VEVENT
UID:140455
DTSTAMP:20250607T120000
DTSTART:20250607T120000
DTEND:20250607T130000
SUMMARY:Live Onsite Real Estate Auction with Online Bidding
LOCATION:466 County Road 1A \, Ironton\, OH 45638\, US
DESCRIPTION:3 Bedrooms\, 3 1/2 Bath home situated on 2.65 Acre Lot   
URL:https://www.gleimauctions.com/auctions/detail/bw140455
SEQUENCE:1
END:VEVENT
END:VCALENDAR