BEGIN:VCALENDAR
VERSION:2.0
PRODID:-//ExpressionEngine Easy iCalendar plugin//NONSGML v2.0.1//EN
X-WR-TIMEZONE:America/New_York
X-WR-CALNAME:Upcoming Auctions
BEGIN:VEVENT
UID:139501
DTSTAMP:20250423T200000
DTSTART:20250423T200000
DTEND:20250429T200000
SUMMARY:Absolute Online Auction #2083
LOCATION:1499 State Route 522\, Wheelersburg\, OH 45694 \, US
DESCRIPTION:Ford 8N Tractor\, Rare Comics\, Collectibles\, Tools\, Household
 \, Coins\, 3pt Wood Chiper\, Ammo and much more 
URL:https://www.gleimauctions.com/auctions/detail/bw139501
SEQUENCE:1
END:VEVENT
END:VCALENDAR