BEGIN:VCALENDAR
VERSION:2.0
PRODID:-//ExpressionEngine Easy iCalendar plugin//NONSGML v2.0.1//EN
X-WR-TIMEZONE:America/New_York
X-WR-CALNAME:Upcoming Auctions
BEGIN:VEVENT
UID:139358
DTSTAMP:20250422T200000
DTSTART:20250422T200000
DTEND:20250427T200000
SUMMARY:Absolute Online Auction #2082
LOCATION:1499 State Route 522\, Wheelersburg\, OH 45694 \, US
DESCRIPTION:Collectibles\, Guns\, Tools\, Household\, Furniture\, Coins and m
 uch more
URL:https://www.gleimauctions.com/auctions/detail/bw139358
SEQUENCE:1
END:VEVENT
END:VCALENDAR