BEGIN:VCALENDAR
VERSION:2.0
PRODID:-//ExpressionEngine Easy iCalendar plugin//NONSGML v2.0.1//EN
X-WR-TIMEZONE:America/New_York
X-WR-CALNAME:Upcoming Auctions
BEGIN:VEVENT
UID:139066
DTSTAMP:20250501T180000
DTSTART:20250501T180000
DTEND:20250501T190000
SUMMARY:Live Onsite Real Estate Auction with Online Bidding
LOCATION:1713 Baird Avenue \, Portsmouth\, OH 45662\, US
DESCRIPTION:2  Bedroom 1 Bath Home   
URL:https://www.gleimauctions.com/auctions/detail/bw139066
SEQUENCE:1
END:VEVENT
END:VCALENDAR