BEGIN:VCALENDAR
VERSION:2.0
PRODID:-//ExpressionEngine Easy iCalendar plugin//NONSGML v2.0.1//EN
X-WR-TIMEZONE:America/New_York
X-WR-CALNAME:Upcoming Auctions
BEGIN:VEVENT
UID:138970
DTSTAMP:20250415T200000
DTSTART:20250415T200000
DTEND:20250420T200000
SUMMARY:Absolute Online Auction #2080
LOCATION:1499 State Route 522\, Wheelersburg\, OH 45694 \, US
DESCRIPTION:Collectibles\, Gold Coin\, Tools\, Household\, Coins and much mo
 re 
URL:https://www.gleimauctions.com/auctions/detail/bw138970
SEQUENCE:1
END:VEVENT
END:VCALENDAR