BEGIN:VCALENDAR
VERSION:2.0
PRODID:-//ExpressionEngine Easy iCalendar plugin//NONSGML v2.0.1//EN
X-WR-TIMEZONE:America/New_York
X-WR-CALNAME:Upcoming Auctions
BEGIN:VEVENT
UID:137975
DTSTAMP:20250412T100000
DTSTART:20250412T100000
DTEND:20250412T110000
SUMMARY:Public Auction
LOCATION:123 Webster St. \, South Webster\, OH 45682\, US
DESCRIPTION:2015 Nissan Altima\, Farm Equipment\, Tools\, Household\, Furnit
 ure\, Baby Grand Piano's  
URL:https://www.gleimauctions.com/auctions/detail/bw137975
SEQUENCE:1
END:VEVENT
END:VCALENDAR