BEGIN:VCALENDAR
VERSION:2.0
PRODID:-//ExpressionEngine Easy iCalendar plugin//NONSGML v2.0.1//EN
X-WR-TIMEZONE:America/New_York
X-WR-CALNAME:Upcoming Auctions
BEGIN:VEVENT
UID:137725
DTSTAMP:20250325T200000
DTSTART:20250325T200000
DTEND:20250330T200000
SUMMARY:Absolute Online Auction #2074
LOCATION:1499 State Route 522\, Wheelersburg\, OH 45694 \, US
DESCRIPTION:2009 Nissan Van\, Collectibles\, Toy Collection\, Comics\, Adver
 tising Signs\, Sports Cards and much more
URL:https://www.gleimauctions.com/auctions/detail/bw137725
SEQUENCE:1
END:VEVENT
END:VCALENDAR