BEGIN:VCALENDAR
VERSION:2.0
PRODID:-//ExpressionEngine Easy iCalendar plugin//NONSGML v2.0.1//EN
X-WR-TIMEZONE:America/New_York
X-WR-CALNAME:Upcoming Auctions
BEGIN:VEVENT
UID:136873
DTSTAMP:20250311T200000
DTSTART:20250311T200000
DTEND:20250316T200000
SUMMARY:Absolute Online Auction #2067
LOCATION:1499 State Route 522\, Wheelersburg\, OH 45694 \, US
DESCRIPTION:Absolute Online Auction #2067 March 16th @ 8:00p.m 1499 Sta
 te Route 522 Wheelersburg\, Ohio 45694 Collectibles\, Tools\, H
 ousehold\, Furniture\, Coins and more  Auction Pickup Date: T
 hursday March 20th from 8:00a.m 12:00 Noon and 1:00p.m to 6
 :00p.m\, if unable to pick up items\, contact Auctioneer to ma
 ke arrangements 740-352-0091. Items can be picked up early d
 uring regular business hours. Shipping is Available for this
  Auction. All Items not picked up subject to late fees and s
 torage fees. All Buyers who don't pick up items bidder numbe
 r will be automatically turned off. If you have Questions ca
 ll Danny Gleim 740-352-0091 Auctioneer/FFL License. ALL ITEM
 S MUST BE PICKED UP THE SAME WEEK STORAGE FEES WILL BE APPLI
 ED AND BIDDING PRIVILEGES WILL SUSPENDED Payment Terms and S
 ales Tax: Accepted forms of payment are Cash or Check. 10% B
 uyers Premium will be added to final bid. All Credit Cards o
 r Paypal usage will be charge 4% Clerking Fee. All Payments 
 will be collected at the time of pickup. Tax will be assesse
 d at 7.25% County Tax\, excluding out of state shipping
URL:https://www.gleimauctions.com/auctions/detail/bw136873
SEQUENCE:1
END:VEVENT
END:VCALENDAR