BEGIN:VCALENDAR
VERSION:2.0
PRODID:-//ExpressionEngine Easy iCalendar plugin//NONSGML v2.0.1//EN
X-WR-TIMEZONE:America/New_York
X-WR-CALNAME:Upcoming Auctions
BEGIN:VEVENT
UID:136645
DTSTAMP:20250305T200000
DTSTART:20250305T200000
DTEND:20250311T200000
SUMMARY:Absolute Online Auction #2066
LOCATION:1499 State Route 522\, Wheelersburg\, OH 45694 \, US
DESCRIPTION:Absolute Online Auction #2066 March 11th @ 8:00p.m 1499 Sta
 te Route 522 Wheelersburg\, Ohio 45694 Collectibles\, Vintage 
 Toys\, Tools\, Household\, Furniture\, Coins and more  Auction 
 Pickup Date: Thursday March 13th from 8:00a.m 12:00 Noon an
 d 1:00p.m to 6:00p.m\, if unable to pick up items\, contact Au
 ctioneer to make arrangements 740-352-0091. Items can be pic
 ked up early during regular business hours. Shipping is Avai
 lable for this Auction. All Items not picked up subject to l
 ate fees and storage fees. All Buyers who don't pick up item
 s bidder number will be automatically turned off. If you hav
 e Questions call Danny Gleim 740-352-0091 Auctioneer/FFL Lic
 ense. ALL ITEMS MUST BE PICKED UP THE SAME WEEK STORAGE FEES
  WILL BE APPLIED AND BIDDING PRIVILEGES WILL SUSPENDED Payme
 nt Terms and Sales Tax: Accepted forms of payment are Cash o
 r Check. 10% Buyers Premium will be added to final bid. All 
 Credit Cards or Paypal usage will be charge 4% Clerking Fee.
  All Payments will be collected at the time of pickup. Tax w
 ill be assessed at 7.25% County Tax\, excluding out of state 
 shipping
URL:https://www.gleimauctions.com/auctions/detail/bw136645
SEQUENCE:1
END:VEVENT
END:VCALENDAR