BEGIN:VCALENDAR
VERSION:2.0
PRODID:-//ExpressionEngine Easy iCalendar plugin//NONSGML v2.0.1//EN
X-WR-TIMEZONE:America/New_York
X-WR-CALNAME:Upcoming Auctions
BEGIN:VEVENT
UID:136265
DTSTAMP:20250226T200000
DTSTART:20250226T200000
DTEND:20250304T200000
SUMMARY:Absolute Online Auction #2064
LOCATION:1499 State Route 522\, Wheelersburg\, OH 45694 \, US
DESCRIPTION:2010 Yukon\, Guns\, Collectibles\, Tools\, Household\, Furniture 
 and much more Auction Pickup Date: Thursday March 6th from 
 8:00a.m 12:00 Noon and 1:00p.m to 6:00p.m
URL:https://www.gleimauctions.com/auctions/detail/bw136265
SEQUENCE:1
END:VEVENT
END:VCALENDAR