BEGIN:VCALENDAR
VERSION:2.0
PRODID:-//ExpressionEngine Easy iCalendar plugin//NONSGML v2.0.1//EN
X-WR-TIMEZONE:America/New_York
X-WR-CALNAME:Upcoming Auctions
BEGIN:VEVENT
UID:136120
DTSTAMP:20250225T200000
DTSTART:20250225T200000
DTEND:20250302T200000
SUMMARY:Absolute Online Auction #2063
LOCATION:1499 State Route 522\, Wheelersburg\, OH 45694 \, US
DESCRIPTION:Collectibles\, Guns\, Tools\, Household\, Coins and much more  
 Auction Pickup Date: Thursday March 6th from 8:00a.m 12:00 
 Noon and 1:00p.m to 6:00p.m
URL:https://www.gleimauctions.com/auctions/detail/bw136120
SEQUENCE:1
END:VEVENT
END:VCALENDAR