BEGIN:VCALENDAR
VERSION:2.0
PRODID:-//ExpressionEngine Easy iCalendar plugin//NONSGML v2.0.1//EN
X-WR-TIMEZONE:America/New_York
X-WR-CALNAME:Upcoming Auctions
BEGIN:VEVENT
UID:136048
DTSTAMP:20250306T170214
DTSTART:20250306T170214
DTEND:20250306T180214
SUMMARY:Live Onsite Real Estate Auction with Online Bidding
LOCATION:1436 4th Street \, West Portsmouth\, OH 456\, US
DESCRIPTION:1 1/2 Story Fixer upper 3 Bedroom and 1 Bath home 
URL:https://www.gleimauctions.com/auctions/detail/bw136048
SEQUENCE:1
END:VEVENT
END:VCALENDAR