BEGIN:VCALENDAR
VERSION:2.0
PRODID:-//ExpressionEngine Easy iCalendar plugin//NONSGML v2.0.1//EN
X-WR-TIMEZONE:America/New_York
X-WR-CALNAME:Upcoming Auctions
BEGIN:VEVENT
UID:135905
DTSTAMP:20250219T200000
DTSTART:20250219T200000
DTEND:20250225T200000
SUMMARY:Absolute Online Auction #2062
LOCATION:1499 State Route 522\, Wheelersburg\, OH 45694 \, US
DESCRIPTION:John Deere Zero Turn Lawn Mower\, Collectibles\, 16ft Utility 
 Trailer\, Tools\, Household\, Food\, Coins and more   Auction 
 Pickup Date: Thursday February 27th from 8:00a.m 12:00 Noon
  and 1:00p.m to 6:00p.m
URL:https://www.gleimauctions.com/auctions/detail/bw135905
SEQUENCE:1
END:VEVENT
END:VCALENDAR