BEGIN:VCALENDAR
VERSION:2.0
PRODID:-//ExpressionEngine Easy iCalendar plugin//NONSGML v2.0.1//EN
X-WR-TIMEZONE:America/New_York
X-WR-CALNAME:Upcoming Auctions
BEGIN:VEVENT
UID:135445
DTSTAMP:20250212T200000
DTSTART:20250212T200000
DTEND:20250218T200000
SUMMARY:Absolute Online Auction #2060
LOCATION:1499 State Route 522\, Wheelersburg\, OH 45694 \, US
DESCRIPTION:1992 Chevy G20 Van\, John Deer Riding Mower\, Collectibles\, Pi
 stol\, Vintage Toys\, Furniture\, Tools\, Household and much m
 ore.  Auction Pickup Date: Thursday February 20th from 8:0
 0a.m 12:00 Noon and 1:00p.m to 6:00p.m
URL:https://www.gleimauctions.com/auctions/detail/bw135445
SEQUENCE:1
END:VEVENT
END:VCALENDAR