BEGIN:VCALENDAR
VERSION:2.0
PRODID:-//ExpressionEngine Easy iCalendar plugin//NONSGML v2.0.1//EN
X-WR-TIMEZONE:America/New_York
X-WR-CALNAME:Upcoming Auctions
BEGIN:VEVENT
UID:134937
DTSTAMP:20250204T200000
DTSTART:20250204T200000
DTEND:20250209T200000
SUMMARY:Absolute Online Auction #2057
LOCATION:1499 State Route 522\, Wheelersburg\, OH 45694 \, US
DESCRIPTION:Collectibles\, Furniture\, Coins\, Tools\, Household and much m
 ore.  Auction Pickup Date: Thursday February 13th from 8:0
 0a.m 12:00 Noon and 1:00p.m to 6:00p.m
URL:https://www.gleimauctions.com/auctions/detail/bw134937
SEQUENCE:1
END:VEVENT
END:VCALENDAR