BEGIN:VCALENDAR
VERSION:2.0
PRODID:-//ExpressionEngine Easy iCalendar plugin//NONSGML v2.0.1//EN
X-WR-TIMEZONE:America/New_York
X-WR-CALNAME:Upcoming Auctions
BEGIN:VEVENT
UID:134591
DTSTAMP:20250128T200000
DTSTART:20250128T200000
DTEND:20250202T200000
SUMMARY:Absolute Online Auction #2055
LOCATION:1499 State Route 522\, Wheelersburg\, OH 45694 \, US
DESCRIPTION:Collectibles\, Furniture\, Vintage Toys\, Household\, Coins and 
 much more
URL:https://www.gleimauctions.com/auctions/detail/bw134591
SEQUENCE:1
END:VEVENT
END:VCALENDAR