BEGIN:VCALENDAR
VERSION:2.0
PRODID:-//ExpressionEngine Easy iCalendar plugin//NONSGML v2.0.1//EN
X-WR-TIMEZONE:America/New_York
X-WR-CALNAME:Upcoming Auctions
BEGIN:VEVENT
UID:134379
DTSTAMP:20250122T200000
DTSTART:20250122T200000
DTEND:20250128T200000
SUMMARY:Absolute Online Auction #2054
LOCATION:1499 State Route 522\, Wheelersburg\, OH 45694 \, US
DESCRIPTION:Collectibles\, Records\, Tools\, Furniture\, Household\, Ammo and
  much more
URL:https://www.gleimauctions.com/auctions/detail/bw134379
SEQUENCE:1
END:VEVENT
END:VCALENDAR