BEGIN:VCALENDAR
VERSION:2.0
PRODID:-//ExpressionEngine Easy iCalendar plugin//NONSGML v2.0.1//EN
X-WR-TIMEZONE:America/New_York
X-WR-CALNAME:Upcoming Auctions
BEGIN:VEVENT
UID:134256
DTSTAMP:20250121T200000
DTSTART:20250121T200000
DTEND:20250126T200000
SUMMARY:Absolute Online Auction #2053
LOCATION:1499 State Route 522\, Wheelersburg\, OH 45694 \, US
DESCRIPTION:Collectibles\, Barbies\, Sterling Silver Jewelry\, Household\, T
 ools\, Furniture and much more. 
URL:https://www.gleimauctions.com/auctions/detail/bw134256
SEQUENCE:1
END:VEVENT
END:VCALENDAR