BEGIN:VCALENDAR
VERSION:2.0
PRODID:-//ExpressionEngine Easy iCalendar plugin//NONSGML v2.0.1//EN
X-WR-TIMEZONE:America/New_York
X-WR-CALNAME:Upcoming Auctions
BEGIN:VEVENT
UID:133241
DTSTAMP:20241231T200000
DTSTART:20241231T200000
DTEND:20250105T200000
SUMMARY:Absolute Online Auction #2047
LOCATION:1499 State Route 522\, Wheelersburg\, OH 45694 \, US
DESCRIPTION:Collectibles\, Guns\, Furniture\, Household\, Jewelry\, Coins and
  much more
URL:https://www.gleimauctions.com/auctions/detail/bw133241
SEQUENCE:1
END:VEVENT
END:VCALENDAR