BEGIN:VCALENDAR
VERSION:2.0
PRODID:-//ExpressionEngine Easy iCalendar plugin//NONSGML v2.0.1//EN
X-WR-TIMEZONE:America/New_York
X-WR-CALNAME:Upcoming Auctions
BEGIN:VEVENT
UID:133075
DTSTAMP:20241224T200000
DTSTART:20241224T200000
DTEND:20241229T200000
SUMMARY:Absolute Online Auction #2045
LOCATION:1499 State Route 522\, Wheelersburg\, OH 45694 \, US
DESCRIPTION:Collectibles\, Tools\, Furniture\, Sound Equipment\, Household i
 tems\, Coins and more 
URL:https://www.gleimauctions.com/auctions/detail/bw133075
SEQUENCE:1
END:VEVENT
END:VCALENDAR