BEGIN:VCALENDAR
VERSION:2.0
PRODID:-//ExpressionEngine Easy iCalendar plugin//NONSGML v2.0.1//EN
X-WR-TIMEZONE:America/New_York
X-WR-CALNAME:Upcoming Auctions
BEGIN:VEVENT
UID:132903
DTSTAMP:20241218T200000
DTSTART:20241218T200000
DTEND:20241223T200000
SUMMARY:Absolute Online Auction #2044
LOCATION:1499 State Route 522\, Wheelersburg\, OH 45694 \, US
DESCRIPTION:Absolute Online Auction #2044 Monday December 23rd @ 8:00p.m
  1499 State Route 522 Wheelersburg\, Ohio 45694 Collectibles\,
  Tools\, Household\, Furniture\, Records and more.  Auction Pi
 ckup Date: Thursday December 26th or Friday December 27th fr
 om 8:00a.m 12:00 Noon and 1:00p.m to 6:00p.m\, if unable to p
 ick up items\, contact Auctioneer to make arrangements 740-35
 2-0091. Items can be picked up early during regular business
  hours. Shipping is Available for this Auction. All Items no
 t picked up subject to late fees and storage fees. All Buyer
 s who don't pick up items bidder number will be automaticall
 y turned off. If you have Questions call Danny Gleim 740-352
 -0091 Auctioneer/FFL License. ALL ITEMS MUST BE PICKED UP TH
 E SAME WEEK STORAGE FEES WILL BE APPLIED AND BIDDING PRIVILE
 GES WILL SUSPENDED Payment Terms and Sales Tax: Accepted for
 ms of payment are Cash or Check. 10% Buyers Premium will be 
 added to final bid. All Credit Cards or Paypal usage will be
  charge 4% Clerking Fee. All Payments will be collected at t
 he time of pickup. Tax will be assessed at 7.25% County Tax\,
  excluding out of state shipping
URL:https://www.gleimauctions.com/auctions/detail/bw132903
SEQUENCE:1
END:VEVENT
END:VCALENDAR