BEGIN:VCALENDAR
VERSION:2.0
PRODID:-//ExpressionEngine Easy iCalendar plugin//NONSGML v2.0.1//EN
X-WR-TIMEZONE:America/New_York
X-WR-CALNAME:Upcoming Auctions
BEGIN:VEVENT
UID:132565
DTSTAMP:20241211T200000
DTSTART:20241211T200000
DTEND:20241217T200000
SUMMARY:Absolute Online Auction #2042
LOCATION:1499 State Route 522\, Wheelersburg\, OH 45694 \, US
DESCRIPTION:Collectibles\, Guns\, Ammo\, Furniture\, Tools\, Coins\, Household
  and more.
URL:https://www.gleimauctions.com/auctions/detail/bw132565
SEQUENCE:1
END:VEVENT
END:VCALENDAR