BEGIN:VCALENDAR
VERSION:2.0
PRODID:-//ExpressionEngine Easy iCalendar plugin//NONSGML v2.0.1//EN
X-WR-TIMEZONE:America/New_York
X-WR-CALNAME:Upcoming Auctions
BEGIN:VEVENT
UID:132434
DTSTAMP:20241209T200000
DTSTART:20241209T200000
DTEND:20241215T200000
SUMMARY:Absolute Online Auction #2041
LOCATION:1499 State Route 522\, Wheelersburg\, OH 45694 \, US
DESCRIPTION:Collectibles\, Guns\, Furniture\, Tools\, Coins\, Household and m
 ore.
URL:https://www.gleimauctions.com/auctions/detail/bw132434
SEQUENCE:1
END:VEVENT
END:VCALENDAR