BEGIN:VCALENDAR
VERSION:2.0
PRODID:-//ExpressionEngine Easy iCalendar plugin//NONSGML v2.0.1//EN
X-WR-TIMEZONE:America/New_York
X-WR-CALNAME:Upcoming Auctions
BEGIN:VEVENT
UID:132370
DTSTAMP:20250101T120001
DTSTART:20250101T120001
DTEND:20250101T130001
SUMMARY:Live Onsite Real Estate Auction with Online Bidding
LOCATION:2350 Timberview Avenue \, Portsmouth\, OH 45662\, US
DESCRIPTION:Nice Ranch Home 4 Bedrooms\, 2 1/2 Baths and Full Basement S
 ituated on .72 Acre Lot with 2 Car Attached Garage located n
 ear SOMC Hospital
URL:https://www.gleimauctions.com/auctions/detail/bw132370
SEQUENCE:1
END:VEVENT
END:VCALENDAR