BEGIN:VCALENDAR
VERSION:2.0
PRODID:-//ExpressionEngine Easy iCalendar plugin//NONSGML v2.0.1//EN
X-WR-TIMEZONE:America/New_York
X-WR-CALNAME:Upcoming Auctions
BEGIN:VEVENT
UID:132279
DTSTAMP:20241207T113000
DTSTART:20241207T113000
DTEND:20241207T123000
SUMMARY:Cataloged Items being offered Live with Online Bidding
LOCATION:2555 Finley Chapel Rd \, Wellston\, OH 45692 \, US
DESCRIPTION:These items will sell at 11:30a.m Live with Online bidding A
 vailable. Non-Cataloged Items will start at 10:00a.m Live On
 site.
URL:https://www.gleimauctions.com/auctions/detail/bw132279
SEQUENCE:1
END:VEVENT
END:VCALENDAR