BEGIN:VCALENDAR
VERSION:2.0
PRODID:-//ExpressionEngine Easy iCalendar plugin//NONSGML v2.0.1//EN
X-WR-TIMEZONE:America/New_York
X-WR-CALNAME:Upcoming Auctions
BEGIN:VEVENT
UID:131948
DTSTAMP:20241127T200000
DTSTART:20241127T200000
DTEND:20241203T200000
SUMMARY:Absolute Online Auction #2037
LOCATION:1499 State Route 522\, Wheelersburg\, OH 45694 \, US
DESCRIPTION:Nice Grandfather Clock\, Collectibles\, New Items\, Guns\, House
 hold\, Ammo\, Coins and much more
URL:https://www.gleimauctions.com/auctions/detail/bw131948
SEQUENCE:1
END:VEVENT
END:VCALENDAR